BEGIN:VCALENDAR
VERSION:2.0
PRODID:-//wp-events-plugin.com//7.2.3.1//EN
BEGIN:VEVENT
UID:15@bickersonsbrewhouse.com
DTSTART:20240614T170000Z
DTEND:20240614T190000Z
DTSTAMP:20240609T193109Z
URL:https://www.bickersonsbrewhouse.com/brewery-events/free-live-music-fea
 turing-rick-and-lisa-in-ballard/
SUMMARY:Free Live Music Featuring Rick and Lisa in Ballard
DESCRIPTION:Rick and Lisa plus Magnolia Steel Band 5-7pm
LOCATION:Bickersons Brewhouse Ballard\, 1514 NW Leary Way\, Seattle\, WA\, 
 98107\, United States
X-APPLE-STRUCTURED-LOCATION;VALUE=URI;X-ADDRESS=1514 NW Leary Way\, Seattle
 \, WA\, 98107\, United States;X-APPLE-RADIUS=100;X-TITLE=Bickersons Brewho
 use Ballard:geo:0,0
END:VEVENT
END:VCALENDAR